BEGIN:VCALENDAR
VERSION:2.0
PRODID:-//Hallsville Presbyterian Church - ECPv6.15.20//NONSGML v1.0//EN
CALSCALE:GREGORIAN
METHOD:PUBLISH
X-WR-CALNAME:Hallsville Presbyterian Church
X-ORIGINAL-URL:https://hallsvillepc.com
X-WR-CALDESC:Events for Hallsville Presbyterian Church
REFRESH-INTERVAL;VALUE=DURATION:PT1H
X-Robots-Tag:noindex
X-PUBLISHED-TTL:PT1H
BEGIN:VTIMEZONE
TZID:America/New_York
BEGIN:DAYLIGHT
TZOFFSETFROM:-0500
TZOFFSETTO:-0400
TZNAME:EDT
DTSTART:20240310T070000
END:DAYLIGHT
BEGIN:STANDARD
TZOFFSETFROM:-0400
TZOFFSETTO:-0500
TZNAME:EST
DTSTART:20241103T060000
END:STANDARD
BEGIN:DAYLIGHT
TZOFFSETFROM:-0500
TZOFFSETTO:-0400
TZNAME:EDT
DTSTART:20250309T070000
END:DAYLIGHT
BEGIN:STANDARD
TZOFFSETFROM:-0400
TZOFFSETTO:-0500
TZNAME:EST
DTSTART:20251102T060000
END:STANDARD
BEGIN:DAYLIGHT
TZOFFSETFROM:-0500
TZOFFSETTO:-0400
TZNAME:EDT
DTSTART:20260308T070000
END:DAYLIGHT
BEGIN:STANDARD
TZOFFSETFROM:-0400
TZOFFSETTO:-0500
TZNAME:EST
DTSTART:20261101T060000
END:STANDARD
END:VTIMEZONE
BEGIN:VEVENT
DTSTART;TZID=America/New_York:20251224T230000
DTEND;TZID=America/New_York:20251225T000000
DTSTAMP:20260423T191733
CREATED:20251202T021816Z
LAST-MODIFIED:20251202T025327Z
UID:3404-1766617200-1766620800@hallsvillepc.com
SUMMARY:Christmas Eve Service
DESCRIPTION:Join us on Christmas Eve from 11:00 PM to 12:00 AM for a beautiful Candlelight Service as we celebrate the birth of our Savior.\nThis quiet\, meaningful hour includes Scripture\, prayer\, traditional hymns\, and the lighting of candles as we welcome Christmas together.\nAll are invited to share in this sacred night of worship\, hope\, and joy.
URL:https://hallsvillepc.com/event/christmas-eve-service/
CATEGORIES:Event
ATTACH;FMTTYPE=image/jpeg:https://hallsvillepc.com/wp-content/uploads/2025/12/christmaseve-w-9.jpg
END:VEVENT
BEGIN:VEVENT
DTSTART;TZID=America/New_York:20251217T180000
DTEND;TZID=America/New_York:20251217T200000
DTSTAMP:20260423T191733
CREATED:20251202T021827Z
LAST-MODIFIED:20251202T025853Z
UID:3408-1765994400-1766001600@hallsvillepc.com
SUMMARY:Christmas Caroling
DESCRIPTION:Christmas Caroling Night!\nTuesday\, December 17\n6:00 PM \nLet’s spread the joy of the season together! Join us as we visit Autumn Village and other local homes to share the warmth\, hope\, and cheer of Christmas through song. \nWhether you’re an experienced singer or just love humming along\, your voice will make a difference. This is a beautiful way to bless our neighbors\, lift spirits\, and celebrate the true heart of the season. \n✨ All ages welcome\, bring friends and family!\n✨ Dress warmly and bring your Christmas cheer! \nContact: Tracy Sumner for more information or to let us know you’ll be joining us. \nCome help us make this season brighter with music\, fellowship\, and joy. \n 
URL:https://hallsvillepc.com/event/christmas-caroling/
CATEGORIES:Event
ATTACH;FMTTYPE=image/png:https://hallsvillepc.com/wp-content/uploads/2025/12/christmas-7621065_1280.png
END:VEVENT
BEGIN:VEVENT
DTSTART;TZID=America/New_York:20251214T170000
DTEND;TZID=America/New_York:20251214T200000
DTSTAMP:20260423T191733
CREATED:20251202T021816Z
LAST-MODIFIED:20251202T024700Z
UID:3403-1765731600-1765742400@hallsvillepc.com
SUMMARY:Youth Christmas Program
DESCRIPTION:Youth Christmas Program at Hallsville Presbyterian!\nSunday\, December 14\n5:00 PM \nOur children have been practicing\, preparing\, and are excited to share the joy of Christmas with you! Join us for a heartwarming evening filled with laughter\, music\, and the true spirit of the season. \n✨ Bring a friend and your favorite goodies!\nWe’ll enjoy a table full of finger foods\, sweets\, and all the festive treats you love. Bring something to share and enjoy fellowship with our church family. \n🎅 Special Guest Appearance!\nWe’re expecting a very special visitor…\nLet’s just say he’s known for saying HO HO HO!\n(Bring the kids — you won’t want to miss this!) \n❤️ Joy Gift Offering\nDuring the program\, we will be collecting the PCUSA Joy Gift Offering\, a long-standing Presbyterian tradition.\nThis offering supports: \n\nRetired church workers who have faithfully served and now face urgent financial need\nStudents and future leaders at Presbyterian-related racial and ethnic schools and colleges\nPCUSA mission and leadership development\n\nBy giving to the Joy Gift Offering\, we come together as a church family to express gratitude\, give hope\, and support the wider ministry of the Presbyterian Church. \n✨ Bring the family. Bring a friend. Bring the joy.\nClick “Going” to let us know you’ll be there!
URL:https://hallsvillepc.com/event/youth-christmas-program/
CATEGORIES:Event
END:VEVENT
BEGIN:VEVENT
DTSTART;TZID=America/New_York:20251213T140000
DTEND;TZID=America/New_York:20251213T180000
DTSTAMP:20260423T191733
CREATED:20251202T021816Z
LAST-MODIFIED:20251202T025539Z
UID:3402-1765634400-1765648800@hallsvillepc.com
SUMMARY:Beulaville Christmas Parade
DESCRIPTION:Beulaville Christmas Parade\nSaturday\, December 13\n2:00 PM \nHallsville Presbyterian Church is excited to participate in this year’s Beulaville Christmas Parade\, and we want YOU to join us! \nWe’ll have a beautifully decorated church float\, spreading Christmas joy and sharing the light of Christ with our community. \nInterested in riding or walking with us?\nPlease get in touch with Ana Brown for details or to sign up! \nHelp us represent Hallsville Presbyterian Church with joy\, fellowship\, and Christmas spirit. \n  \n 
URL:https://hallsvillepc.com/event/beulaville-christmas-parade/
CATEGORIES:Event
END:VEVENT
BEGIN:VEVENT
DTSTART;TZID=America/New_York:20251210T183000
DTEND;TZID=America/New_York:20251210T203000
DTSTAMP:20260423T191733
CREATED:20251202T021815Z
LAST-MODIFIED:20251202T025518Z
UID:3400-1765391400-1765398600@hallsvillepc.com
SUMMARY:Bible Study
DESCRIPTION:Join us for a meaningful evening of fellowship\, food\, and spiritual growth as we dive into Dr. David Jeremiah’s Powerful Principles from Proverbs. Together\, we’ll explore timeless wisdom for everyday life — guidance\, encouragement\, and insight straight from God’s Word. \nWhether you’re a long-time member or joining us for the first time\, you’ll feel right at home as we learn\, discuss\, and grow together in faith. \nAfter our study\, we’ll enjoy a potluck meal\, so bring your favorite dish to share!\nFrom casseroles to desserts — everything tastes better when shared in fellowship. \nCome hungry\, spiritually and physically\, and be blessed by an evening with your church family.
URL:https://hallsvillepc.com/event/bible-study/
CATEGORIES:Event
END:VEVENT
BEGIN:VEVENT
DTSTART;TZID=America/New_York:20251129T160000
DTEND;TZID=America/New_York:20251129T180000
DTSTAMP:20260423T191733
CREATED:20251202T021827Z
LAST-MODIFIED:20251202T025932Z
UID:3409-1764432000-1764439200@hallsvillepc.com
SUMMARY:Christmas Decorating & Chrismon Tree
DESCRIPTION:Decorate the Church & Chrismon Tree\nSaturday\, November 29\n4:00 PM \nJoin us as we prepare our sanctuary for the Advent and Christmas season! We’ll be decorating the church and placing the beautiful Chrismons on the tree\, a tradition that reminds us of Christ’s love\, hope\, and light. \nAll ages are welcome! Whether you enjoy hanging ornaments\, setting up greenery\, or simply being part of the fellowship\, your presence will make this a special time. \n✨ Come help us make Hallsville Presbyterian shine for Christmas!\n✨ Stay for a meal afterward and enjoy time with your church family. \nClick Going to let us know you’ll be joining us!
URL:https://hallsvillepc.com/event/christmas-decorating-chrismon-tree/
CATEGORIES:Event
END:VEVENT
BEGIN:VEVENT
DTSTART;TZID=America/New_York:20251123T180000
DTEND;TZID=America/New_York:20251123T210000
DTSTAMP:20260423T191733
CREATED:20251202T020450Z
LAST-MODIFIED:20251202T025559Z
UID:3399-1763920800-1763931600@hallsvillepc.com
SUMMARY:Joint Thanksgiving Service
DESCRIPTION:Join us for a meaningful and uplifting Joint Thanksgiving Service as Hallsville Presbyterian Church and Hallsville Baptist Church gather together in worship and gratitude. \nThis special evening service is an opportunity for both church families—and our wider community—to pause\, reflect\, and thank God for His abundant blessings throughout the year. Together\, we’ll share in scripture\, prayer\, thanksgiving music\, and a message that centers our hearts on grace and gratitude. \nWhether you are a long-time member or a first-time visitor\, we warmly invite you to come be part of this beautiful tradition of unity and praise.8518\, USA
URL:https://hallsvillepc.com/event/joint-thanksgiving-service/
CATEGORIES:Event
END:VEVENT
END:VCALENDAR